BEGIN:VCALENDAR
VERSION:2.0
PRODID:-//hacksw/handcal//NONSGML v1.0//EN
CALSCALE:GREGORIAN
BEGIN:VEVENT
DTEND:20251004T140000Z
UID:69e6225d14547
DTSTAMP:20260420T125557Z
LOCATION:Pfinztalhalle\, Am Stadion\, 76327 Pfinztal
DESCRIPTION:
URL;VALUE=URI:https://www.volleyball-nordbaden.de/cms/home/halle/spielbetrieb/tabellen_nvv_ligen.xhtml?LeaguePresenter.view=resultTable&LeaguePresenter.matchSeriesId=95252670#samsCmsComponent_68828336
SUMMARY:Damen 3: VSG Kleinsteinbach 3 - Rastatter TV
DTSTART:20251004T120000Z
END:VEVENT
BEGIN:VEVENT
DTEND:20251004T140000Z
UID:69e6225d145cd
DTSTAMP:20260420T125557Z
LOCATION:Pfinztalhalle\, Am Stadion\, 76327 Pfinztal
DESCRIPTION:
URL;VALUE=URI:https://www.volleyball-nordbaden.de/cms/home/halle/spielbetrieb/tabellen_nvv_ligen.xhtml?LeaguePresenter.view=resultTable&LeaguePresenter.matchSeriesId=95252670#samsCmsComponent_68828336
SUMMARY:Damen 3: VSG Kleinsteinbach 3 - TV Bretten 3
DTSTART:20251004T120000Z
END:VEVENT
BEGIN:VEVENT
DTEND:20251012T110000Z
UID:69e6225d145d9
DTSTAMP:20260420T125557Z
LOCATION:Brüchelwaldhalle\, Am Tellplatzweg 6\, 76470 Ötigheim
DESCRIPTION:
URL;VALUE=URI:https://www.volleyball-nordbaden.de/cms/home/halle/spielbetrieb/tabellen_nvv_ligen.xhtml?LeaguePresenter.view=resultTable&LeaguePresenter.matchSeriesId=95252670#samsCmsComponent_68828336
SUMMARY:Damen 3: TG Ötigheim 2 - VSG Kleinsteinbach 3
DTSTART:20251012T090000Z
END:VEVENT
BEGIN:VEVENT
DTEND:20251025T150000Z
UID:69e6225d145e2
DTSTAMP:20260420T125557Z
LOCATION:Schulzentrum Neureut\, Unterfeldstr. 6\, 76149 Neureut
DESCRIPTION:
URL;VALUE=URI:https://www.volleyball-nordbaden.de/cms/home/halle/spielbetrieb/tabellen_nvv_ligen.xhtml?LeaguePresenter.view=resultTable&LeaguePresenter.matchSeriesId=95252670#samsCmsComponent_68828336
SUMMARY:Damen 3: VC Neureut - VSG Kleinsteinbach 3
DTSTART:20251025T130000Z
END:VEVENT
BEGIN:VEVENT
DTEND:20251108T140000Z
UID:69e6225d145e9
DTSTAMP:20260420T125557Z
LOCATION:Pfinztalhalle\, Am Stadion\, 76327 Pfinztal
DESCRIPTION:
URL;VALUE=URI:https://www.volleyball-nordbaden.de/cms/home/halle/spielbetrieb/tabellen_nvv_ligen.xhtml?LeaguePresenter.view=resultTable&LeaguePresenter.matchSeriesId=95252670#samsCmsComponent_68828336
SUMMARY:Damen 3: VSG Kleinsteinbach 3 - SG Mittelbaden Volleys 2
DTSTART:20251108T120000Z
END:VEVENT
BEGIN:VEVENT
DTEND:20251108T140000Z
UID:69e6225d145f1
DTSTAMP:20260420T125557Z
LOCATION:Pfinztalhalle\, Am Stadion\, 76327 Pfinztal
DESCRIPTION:
URL;VALUE=URI:https://www.volleyball-nordbaden.de/cms/home/halle/spielbetrieb/tabellen_nvv_ligen.xhtml?LeaguePresenter.view=resultTable&LeaguePresenter.matchSeriesId=95252670#samsCmsComponent_68828336
SUMMARY:Damen 3: VSG Kleinsteinbach 3 - SV KA-Beiertheim 6
DTSTART:20251108T120000Z
END:VEVENT
BEGIN:VEVENT
DTEND:20251122T160000Z
UID:69e6225d145f9
DTSTAMP:20260420T125557Z
LOCATION:Neue Schlossgartenhalle\, Franz von Sickingen Straße 42\, 75038 Flehingen
DESCRIPTION:
URL;VALUE=URI:https://www.volleyball-nordbaden.de/cms/home/halle/spielbetrieb/tabellen_nvv_ligen.xhtml?LeaguePresenter.view=resultTable&LeaguePresenter.matchSeriesId=95252670#samsCmsComponent_68828336
SUMMARY:Damen 3: TV Flehingen - VSG Kleinsteinbach 3
DTSTART:20251122T140000Z
END:VEVENT
BEGIN:VEVENT
DTEND:20251206T140000Z
UID:69e6225d14601
DTSTAMP:20260420T125557Z
LOCATION:Maihäldenhalle\, Leonhard-Kleber-Str. 5\, 75179 Pforzheim
DESCRIPTION:
URL;VALUE=URI:https://www.volleyball-nordbaden.de/cms/home/halle/spielbetrieb/tabellen_nvv_ligen.xhtml?LeaguePresenter.view=resultTable&LeaguePresenter.matchSeriesId=95252670#samsCmsComponent_68828336
SUMMARY:Damen 3: SG  Ersingen-Ispringen-Pforzheim 2 - VSG Kleinsteinbach 3
DTSTART:20251206T120000Z
END:VEVENT
BEGIN:VEVENT
DTEND:20260110T160000Z
UID:69e6225d14609
DTSTAMP:20260420T125557Z
LOCATION:Pfinztalhalle\, Am Stadion\, 76327 Pfinztal
DESCRIPTION:
URL;VALUE=URI:https://www.volleyball-nordbaden.de/cms/home/halle/spielbetrieb/tabellen_nvv_ligen.xhtml?LeaguePresenter.view=resultTable&LeaguePresenter.matchSeriesId=95252670#samsCmsComponent_68828336
SUMMARY:Damen 3: VSG Kleinsteinbach 3 - VC Neureut
DTSTART:20260110T140000Z
END:VEVENT
BEGIN:VEVENT
DTEND:20260110T160000Z
UID:69e6225d1460f
DTSTAMP:20260420T125557Z
LOCATION:Pfinztalhalle\, Am Stadion\, 76327 Pfinztal
DESCRIPTION:
URL;VALUE=URI:https://www.volleyball-nordbaden.de/cms/home/halle/spielbetrieb/tabellen_nvv_ligen.xhtml?LeaguePresenter.view=resultTable&LeaguePresenter.matchSeriesId=95252670#samsCmsComponent_68828336
SUMMARY:Damen 3: VSG Kleinsteinbach 3 - TG Ötigheim 2
DTSTART:20260110T140000Z
END:VEVENT
BEGIN:VEVENT
DTEND:20260125T120000Z
UID:69e6225d14616
DTSTAMP:20260420T125557Z
LOCATION:TV-Sporthalle (beim Simmelturm)\, Withumanlage 7\, 75015 Bretten
DESCRIPTION:
URL;VALUE=URI:https://www.volleyball-nordbaden.de/cms/home/halle/spielbetrieb/tabellen_nvv_ligen.xhtml?LeaguePresenter.view=resultTable&LeaguePresenter.matchSeriesId=95252670#samsCmsComponent_68828336
SUMMARY:Damen 3: TV Bretten 3 - VSG Kleinsteinbach 3
DTSTART:20260125T100000Z
END:VEVENT
BEGIN:VEVENT
DTEND:20260307T130000Z
UID:69e6225d1461c
DTSTAMP:20260420T125557Z
LOCATION:Rheinstrandhalle\, Lindenallee 12\, 76189 Karlsruhe
DESCRIPTION:
URL;VALUE=URI:https://www.volleyball-nordbaden.de/cms/home/halle/spielbetrieb/tabellen_nvv_ligen.xhtml?LeaguePresenter.view=resultTable&LeaguePresenter.matchSeriesId=95252670#samsCmsComponent_68828336
SUMMARY:Damen 3: SV KA-Beiertheim 6 - VSG Kleinsteinbach 3
DTSTART:20260307T110000Z
END:VEVENT
BEGIN:VEVENT
DTEND:20260314T150000Z
UID:69e6225d14624
DTSTAMP:20260420T125557Z
LOCATION:Karlschule\, Ludwigring\, 76437 Rastatt
DESCRIPTION:
URL;VALUE=URI:https://www.volleyball-nordbaden.de/cms/home/halle/spielbetrieb/tabellen_nvv_ligen.xhtml?LeaguePresenter.view=resultTable&LeaguePresenter.matchSeriesId=95252670#samsCmsComponent_68828336
SUMMARY:Damen 3: Rastatter TV - VSG Kleinsteinbach 3
DTSTART:20260314T130000Z
END:VEVENT
BEGIN:VEVENT
DTEND:20260321T120000Z
UID:69e6225d1462c
DTSTAMP:20260420T125557Z
LOCATION:Stadthalle Steinbach\, Meister-Erwin-Straße 5\, 76534 Baden-Baden Steinbach
DESCRIPTION:
URL;VALUE=URI:https://www.volleyball-nordbaden.de/cms/home/halle/spielbetrieb/tabellen_nvv_ligen.xhtml?LeaguePresenter.view=resultTable&LeaguePresenter.matchSeriesId=95252670#samsCmsComponent_68828336
SUMMARY:Damen 3: SG Mittelbaden Volleys 2 - VSG Kleinsteinbach 3
DTSTART:20260321T100000Z
END:VEVENT
BEGIN:VEVENT
DTEND:20260328T150000Z
UID:69e6225d14634
DTSTAMP:20260420T125557Z
LOCATION:Pfinztalhalle\, Am Stadion\, 76327 Pfinztal
DESCRIPTION:
URL;VALUE=URI:https://www.volleyball-nordbaden.de/cms/home/halle/spielbetrieb/tabellen_nvv_ligen.xhtml?LeaguePresenter.view=resultTable&LeaguePresenter.matchSeriesId=95252670#samsCmsComponent_68828336
SUMMARY:Damen 3: VSG Kleinsteinbach 3 - SG  Ersingen-Ispringen-Pforzheim 2
DTSTART:20260328T130000Z
END:VEVENT
BEGIN:VEVENT
DTEND:20260328T150000Z
UID:69e6225d1463c
DTSTAMP:20260420T125557Z
LOCATION:Pfinztalhalle\, Am Stadion\, 76327 Pfinztal
DESCRIPTION:
URL;VALUE=URI:https://www.volleyball-nordbaden.de/cms/home/halle/spielbetrieb/tabellen_nvv_ligen.xhtml?LeaguePresenter.view=resultTable&LeaguePresenter.matchSeriesId=95252670#samsCmsComponent_68828336
SUMMARY:Damen 3: VSG Kleinsteinbach 3 - TV Flehingen
DTSTART:20260328T130000Z
END:VEVENT
END:VCALENDAR
